BEGIN:VCALENDAR
VERSION:2.0
PRODID:-//CEU - ECPv5.16.4//NONSGML v1.0//EN
CALSCALE:GREGORIAN
METHOD:PUBLISH
X-WR-CALNAME:CEU
X-ORIGINAL-URL:https://ceu-hamburg.eu
X-WR-CALDESC:Veranstaltungen für CEU
BEGIN:VTIMEZONE
TZID:Europe/Berlin
BEGIN:DAYLIGHT
TZOFFSETFROM:+0100
TZOFFSETTO:+0200
TZNAME:CEST
DTSTART:20230326T010000
END:DAYLIGHT
BEGIN:STANDARD
TZOFFSETFROM:+0200
TZOFFSETTO:+0100
TZNAME:CET
DTSTART:20231029T010000
END:STANDARD
END:VTIMEZONE
BEGIN:VEVENT
DTSTART;TZID=Europe/Berlin:20230206T190000
DTEND;TZID=Europe/Berlin:20230206T213000
DTSTAMP:20260424T112828
CREATED:20221121T162155Z
LAST-MODIFIED:20230113T162514Z
UID:18090-1675710000-1675719000@ceu-hamburg.eu
SUMMARY:Vortrag- und Diskussionsabend mit Michel Friedman\, Jurist\, Philosoph\, Politiker und Talkmaster zum Thema: „Ist Schlaraffenland abgebrannt? – Der (verspätete) Weg ins 21. Jahrhundert“
DESCRIPTION:[vc_row][vc_column][vc_column_text] \nVortrag- und Diskussionsabend mit Michel Friedman\, Jurist\, Philosoph\, Politiker und Talkmaster.\nThema: „Ist Schlaraffenland abgebrannt? – Der (verspätete) Weg ins 21. Jahrhundert“\nFoto:Nicci Kuhn \nKurzportrait und Bibliographie \nProf. Dr. jur. Dr. phil. Julien Michel Friedman \nProf. Dr. Dr. Julien Michel Friedman\, geboren 1956 in Paris\, ist ein deutsch-französischer Jurist\, Philosoph\, Publizist\, Autor und Moderator.\nVon 1998 bis 2003 moderierte er den politischen Talk Vorsicht! Friedman beim Hessischen Rundfunk sowie ab 2001 die ARD-Sendung Friedman.\nSeit 2004 war er als Moderator für die politische Sendung Studio Friedman und die Reportagereihe Friedman schaut hin sowie seit April 2021 mit der Talksendung ‚Open End‘ bei WeltN24 tätig.\nIm Fernsehen war Michel Friedman des Weiteren in den Sendungen Auf ein Wort … mit Michel Friedman und Der Tag bei der Deutschen Welle zu sehen.\nFür den SWR moderiert Michel Friedman das Demokratieforum im Hambacher Schloss.\nBeim Berliner Ensemble empfängt er seit 2017 regelmäßig Gäste für das Format Friedman im Gespräch.\nSeit September 2020 ist Michel Friedman als Moderator Teil der neuen Veranstaltungsreihe Denken ohne Geländer des Jüdischen Museums Frankfurt am Main tätig.\nEr ist außerdem regelmäßig im Podcast Zukunft Denken des jüdischen Wochenmagazins tachles zu hören.\nMichel Friedman ist Honorarprofessor an der Frankfurt University of Applied Sciences und war Geschäftsführender Direktor des Center for Applied European Studies (CAES). \nIm Rahmen seiner Tätigkeit als Autor erschienen folgende Bücher\n2005 „Kaddisch vor Morgengrauen“\, Roman im Aufbau Verlag.\n2020 „Zeitenwende“\, in Zusammenarbeit mit Harald Welzer\, im Kiwi-Verlag.\n2021 „Streiten?“ Unbedingt! im Duden Verlag\n2022 „Fremd“ im Berliner Verlag/ Piper Verlag \n[/vc_column_text][/vc_column][/vc_row]
URL:https://ceu-hamburg.eu/event/vortrag-und-diskussionsabend-mit-michel-friedman-jurist-philosoph-politiker-und-talkmaster
LOCATION:Hotel Vier Jahreszeiten\, Neuer Jungfernstieg 9 - 14\, Hamburg\, 20354
CATEGORIES:CeU-Event,Hamburg,Vortrag
ATTACH;FMTTYPE=image/jpeg:https://ceu-hamburg.eu/wp-content/uploads/2022/11/Pressefoto-Michel-Friedman-by-Nicci-Kuhn.jpg
ORGANIZER;CN="CeU-Hamburg":MAILTO:events@ceu-hamburg.eu
END:VEVENT
END:VCALENDAR