BEGIN:VCALENDAR
VERSION:2.0
PRODID:-//CEU - ECPv5.16.4//NONSGML v1.0//EN
CALSCALE:GREGORIAN
METHOD:PUBLISH
X-WR-CALNAME:CEU
X-ORIGINAL-URL:https://ceu-hamburg.eu
X-WR-CALDESC:Veranstaltungen für CEU
BEGIN:VTIMEZONE
TZID:Europe/Berlin
BEGIN:DAYLIGHT
TZOFFSETFROM:+0100
TZOFFSETTO:+0200
TZNAME:CEST
DTSTART:20260329T010000
END:DAYLIGHT
BEGIN:STANDARD
TZOFFSETFROM:+0200
TZOFFSETTO:+0100
TZNAME:CET
DTSTART:20261025T010000
END:STANDARD
END:VTIMEZONE
BEGIN:VEVENT
DTSTART;TZID=Europe/Berlin:20260907T180000
DTEND;TZID=Europe/Berlin:20260907T210000
DTSTAMP:20260424T141059
CREATED:20260422T131731Z
LAST-MODIFIED:20260422T131731Z
UID:25176-1788804000-1788814800@ceu-hamburg.eu
SUMMARY:"Summer in the City“ Talk mit Petra Winter zum Thema: „Torheit oder Traute? Der Launch von „T: The New York Times Style Magazine Germany“ im aktuellen Medien-Umfeld“ kopie
DESCRIPTION:[vc_row][vc_column css=“.vc_custom_1776101062707{margin-top: 0px !important;margin-bottom: 0px !important;}“][vc_custom_heading text=“Torheit oder Traute? Der Launch von „T: The New York Times Style Magazine Germany“ im aktuellen Medien-Umfeld“ google_fonts=“font_family:Prata%3Aregular|font_style:400%20regular%3A400%3Anormal“ css_animation=“fadeIn“ css=““][/vc_column][/vc_row][vc_row content_placement=“top“ padding_top=“0″][vc_column width=“1/3″][vc_single_image image=“25152″ img_size=“large“ css=““ full_width=“yes“][/vc_column][vc_column width=“2/3″][vc_column_text css=““] \nWie viel Risiko verträgt die Medienbranche heute – und wann wird aus kühner Vision bloße Torheit?\nIn diesem Talk werfen wir einen Blick auf den ambitionierten Schritt von Beautiful Minds Media\, mit „T: The New York Times Style Magazine Germany“ ein neues Hochglanzmagazin im deutschsprachigen Raum zu etablieren. Zwischen schrumpfenden Printauflagen\, digitaler Disruption und wachsender Markenmacht globaler Medien stellt sich die Frage: Ist das ein überfälliges Bekenntnis zur Qualität und kulturellen Relevanz – oder ein nostalgischer Griff nach einem Geschäftsmodell von gestern? Ein Gespräch über Mut\, Marktverständnis und die Zukunft des Premium-Journalismus. \nPetra Winter\, Jahrgang 1975\, ist seit Oktober 2025 Publishing Director von T: The New York Times Style Magazine Germany und seit Januar 2014 Chefredakteurin der Luxus- und Fashionmagazine MADAME & MONSIEUR. Seit Januar 2021 ist sie ebenfalls Teilhaberin der Magazinmarken in der Beautiful Minds Media GmbH. \nBereits mit 28 Jahren wurde die studierte Politologin und ausgebildete Journalistin Chefredakteurin\, entwickelte eine junge Frauenzeitschrift und leitete ein Jahr später die COSMOPOLITAN. In ihrer fast 7-jährigen Amtszeit festigte sie Auflage und Standing der bekannten Marke\, indem Sie die COSMOPOLITAN Business Academy gründete und eine Initiative Pro Quote ins Leben rief. Gleichzeitig kooperierte Winter mit der Casting-Show „Germany’s next Topmodel“\, war mehrfach als Gastjurorin zu sehen. Es folgten Zwischenstopps in der BILD-Chefredaktion\, Berlin\, und als Beraterin des internationalen Fashion-Konzerns s.Oliver\, für die Petra Winter in der TV-Show „Fashion Hero“ in der Jury der Einkäufer saß. \nPetra Winter ist Präsidentin der internationalen Frauen-Organisation „International Women’s Forum“\, Gründungsmitglied des Clubs europäischer Unternehmerinnen e.V. und Jurymitglied für dessen Kunst Award. \n[/vc_column_text][vc_column_text css=““]Foto: Clemens Porikys[/vc_column_text][/vc_column][/vc_row]
URL:https://ceu-hamburg.eu/event/summer-in-the-city-talk-mit-petra-winter-zum-thema-torheit-oder-traute-der-launch-von-t-the-new-york-times-style-magazine-germany-im-aktuellen-medien-umfeld
LOCATION:Hotel Vier Jahreszeiten\, Neuer Jungfernstieg 9 - 14\, Hamburg\, 20354
CATEGORIES:CeU-Event,Hamburg
ATTACH;FMTTYPE=image/jpeg:https://ceu-hamburg.eu/wp-content/uploads/2016/01/Petra.T-Germany-2.jpg
ORGANIZER;CN="CeU-Hamburg":MAILTO:events@ceu-hamburg.eu
END:VEVENT
END:VCALENDAR