BEGIN:VCALENDAR
VERSION:2.0
PRODID:-//CEU - ECPv5.16.4//NONSGML v1.0//EN
CALSCALE:GREGORIAN
METHOD:PUBLISH
X-WR-CALNAME:CEU
X-ORIGINAL-URL:https://ceu-hamburg.eu
X-WR-CALDESC:Veranstaltungen für CEU
BEGIN:VTIMEZONE
TZID:Europe/Berlin
BEGIN:DAYLIGHT
TZOFFSETFROM:+0100
TZOFFSETTO:+0200
TZNAME:CEST
DTSTART:20230326T010000
END:DAYLIGHT
BEGIN:STANDARD
TZOFFSETFROM:+0200
TZOFFSETTO:+0100
TZNAME:CET
DTSTART:20231029T010000
END:STANDARD
END:VTIMEZONE
BEGIN:VEVENT
DTSTART;TZID=Europe/Berlin:20230911T180000
DTEND;TZID=Europe/Berlin:20230911T210000
DTSTAMP:20260424T141742
CREATED:20230730T145122Z
LAST-MODIFIED:20230730T145122Z
UID:19487-1694455200-1694466000@ceu-hamburg.eu
SUMMARY:„Planet Ozean - Warum wir die Meere retten müssen\, um selbst zu überleben“ – Vortrag und Diskussionsveranstaltung mit Thomas Behrend\, deutscher Dokumentarfilmer
DESCRIPTION:[vc_row][vc_column][vc_column_text] \n„Planet Ozean – Warum wir die Meere retten müssen\, um selbst zu überleben“ \nVortrag und Diskussionsveranstaltung mit Thomas Behrend\, deutscher Dokumentarfilmer – bekannt über die aktuelle Filmserie „Unsere Meere“\, die erfolgreichste Natur-Dokumentation in der langen Tierfilmtradition der ARD\nDie Ozeane liefern Sauerstoff zum Atmen und Nahrung für mehr als ein Drittel der Menschheit. Sie bieten Abermillionen Arbeit\, und leisten uns allen einen unschätzbaren Dienst: Sie regulieren das Klima und bremsen die globale Erwärmung\, Nun aber droht das System Meer zu kollabieren. Wirbelstürme\, Überflutungen und Dürren\, ja sogar Flüchtlingswellen und Kriege könnten die Folge sein. Wir müssen sofort handeln. \nIn einem eindrucksvollen Vortrag stellen Thomas Behrend und sein Team die Zusammenhänge in den Ozeanen dar und präsentieren ihr neues Kino- und Fernsehfilmprojekt. Gemeinsam mit uns möchten sie damit die Menschheit ebenso informieren wie motivieren die Meere zu retten. Für uns und nachfolgende Generationen. \nThomas Behrend ist 1964 in Hamburg geboren. Schon von Jugend an\, vom Wasser fasziniert\, wurde er 1984 während seines Maschinenbau-Studiums zum Gerätetauchen animiert. \nAus dem Hobbytaucher wurde ein begeisterter Tauchprofi\, der jede freie Minute unter Wasser verbrachte und mit der Videokamera das Leben im Wasser dokumentierte. \n1991 gründete Thomas Behrend seine eigene Firma BLUE PLANET FILM\, die sich mit der Herstellung von Tierfilmen und Naturdokumentationen für deutsche und internationale Fernsehsender beschäftigt. Heute hat Behrend an mehr als 100 Filmen mitgewirkt und gehört weltweit zu den erfolgreichsten Tierfilmproduzenten. So erhielt er im Jahre 2004 als erster deutscher Tierfilmer den Filmpreis die Goldene Palme in Antibes\, Frankreich. Weitere Highlights ist die Nominierung für die Goldene Kamera 2010 in Berlin\, sowie die Auszeichnung mit dem Heinz Sielmann Preis. Die aktuelle Filmserie „Unsere Meere“\, wurde zur erfolgreichsten Natur-Dokumentation in der langen Tierfilmtradition der ARD. \n[/vc_column_text][/vc_column][/vc_row]
URL:https://ceu-hamburg.eu/event/planet-ozean-warum-wir-die-meere-retten-muessen-um-selbst-zu-ueberleben-vortrag-und-diskussionsveranstaltung-mit-thomas-behrend-deutscher-dokumentarfilmer
LOCATION:Hotel Vier Jahreszeiten\, Neuer Jungfernstieg 9 - 14\, Hamburg\, 20354
CATEGORIES:CeU-Event,Hamburg,Vortrag
ATTACH;FMTTYPE=image/jpeg:https://ceu-hamburg.eu/wp-content/uploads/2023/07/CEU_event-montage_thomas_behrend.jpg
ORGANIZER;CN="CeU-Hamburg":MAILTO:events@ceu-hamburg.eu
END:VEVENT
END:VCALENDAR