BEGIN:VCALENDAR
VERSION:2.0
PRODID:-//CEU - ECPv5.16.4//NONSGML v1.0//EN
CALSCALE:GREGORIAN
METHOD:PUBLISH
X-WR-CALNAME:CEU
X-ORIGINAL-URL:https://ceu-hamburg.eu
X-WR-CALDESC:Veranstaltungen für CEU
BEGIN:VTIMEZONE
TZID:Europe/Berlin
BEGIN:DAYLIGHT
TZOFFSETFROM:+0100
TZOFFSETTO:+0200
TZNAME:CEST
DTSTART:20210328T010000
END:DAYLIGHT
BEGIN:STANDARD
TZOFFSETFROM:+0200
TZOFFSETTO:+0100
TZNAME:CET
DTSTART:20211031T010000
END:STANDARD
END:VTIMEZONE
BEGIN:VEVENT
DTSTART;TZID=Europe/Berlin:20211015T160000
DTEND;TZID=Europe/Berlin:20211015T200000
DTSTAMP:20260424T152632
CREATED:20210617T141613Z
LAST-MODIFIED:20210927T183713Z
UID:15879-1634313600-1634328000@ceu-hamburg.eu
SUMMARY:Medien- und Auftrittstraining Teil 2 – „It´s not about perfection\, it´s all about connection!“ mit Journalistin und Fernsehmoderatorin Sabrina Staubitz
DESCRIPTION:[vc_row][vc_column][vc_column_text] \n„It´s not about perfection\, it´s all about connection!“\nWenn wir gehört werden möchten\, müssen wir unsere Inhalte überzeugend und souverän präsentieren. Dazu gehört\, dass wir unsere eigene Wirkung kennen und wissen\, wie wir Menschen erreichen. \nAls Unternehmerin stehen Sie im Fokus der Aufmerksamkeit. Sie sind das Gesicht\, die Visitenkarte und haben die Chance\, mit überzeugenden (Medien-) Auftritten die Corporate Identity zu stärken\, Kernbotschaften relevant zu platzieren\, neue Kunden zu begeistern. \nDie Art\, wie wir kommunizieren entscheidet über unsere Glaubwürdigkeit\, Durchsetzungsstärke und Überzeugungskraft. Das hängt mit Persönlichkeit und Charisma zusammen\, aber auch viel mit Rollenfindung\, Routine und richtigem „Handwerkszeug“. \nIm Training arbeiten wir ressourcenorientiert. Es gilt erkannte Stärken auszubauen\, weniger\, vermeintliche Schwächen auszumerzen. Alles\, was authentisch Sie sind\, trägt zu Ihrer Glaubwürdigkeit bei – und darf\, ja soll – je nach situativem Kontext – stattfinden. \nDeswegen arbeiten wir im Workshop passgenau und praxisorientiert in sehr kleinen Gruppen. \nIm Anschluss an ein Vorgespräch entwickeln Sie eine Selbstpräsentation\, Auftrittssituation\, Rede\, die Sie live üben können. Eine gemeinsame Videoanalyse hilft\, blinde Flecken zu erkennen und die eigene Wirkung besser einzuschätzen. Dazu verrate ich Ihnen einige Basics in Sachen Dos and Don´ts auf der Bühne\, wie vor der Kamera\, und gebe Ihnen individuelle Übungen mit an die Hand. \nIm Anschluss kennen Sie sich und Ihre Körpersprache besser. Nonverbale Kommunikation\, also Mimik\, Gestik und Stimme\, spielt eine oft unterschätzte Rolle\, damit Ihr Auftritt sicher und stimmig wirkt. \nLetztlich geht es darum\, wie Sie auf Ihr persönliches Bestleistungsniveau kommen und dabei mehr Spaß als Anspannung empfinden.  \n„Humor ist auch\, wenn man sich kennt und sich trotzdem mag.“ \nManfred Hinrich (1926 – 2015)\, Dr. phil.\, deutscher Philosoph\, Philologe\, Lehrer\, Journalist. [/vc_column_text][/vc_column][/vc_row]
URL:https://ceu-hamburg.eu/event/medien-und-auftrittstraining-its-not-about-perfection-its-all-about-connection-mit-journalistin-und-fernsehmoderatorin-sabrina-staubitz-ii
LOCATION:Hotel Vier Jahreszeiten\, Neuer Jungfernstieg 9 - 14\, Hamburg\, 20354
CATEGORIES:CeU-Event,Hamburg
ATTACH;FMTTYPE=image/jpeg:https://ceu-hamburg.eu/wp-content/uploads/2016/03/Sabrina-Staubitz-4-e1712771524106.jpg
ORGANIZER;CN="CeU-Hamburg":MAILTO:events@ceu-hamburg.eu
END:VEVENT
END:VCALENDAR