BEGIN:VCALENDAR
VERSION:2.0
PRODID:-//CEU - ECPv5.16.4//NONSGML v1.0//EN
CALSCALE:GREGORIAN
METHOD:PUBLISH
X-WR-CALNAME:CEU
X-ORIGINAL-URL:https://ceu-hamburg.eu
X-WR-CALDESC:Veranstaltungen für CEU
BEGIN:VTIMEZONE
TZID:Europe/Berlin
BEGIN:DAYLIGHT
TZOFFSETFROM:+0100
TZOFFSETTO:+0200
TZNAME:CEST
DTSTART:20210328T010000
END:DAYLIGHT
BEGIN:STANDARD
TZOFFSETFROM:+0200
TZOFFSETTO:+0100
TZNAME:CET
DTSTART:20211031T010000
END:STANDARD
END:VTIMEZONE
BEGIN:VEVENT
DTSTART;TZID=Europe/Berlin:20210602T190000
DTEND;TZID=Europe/Berlin:20210602T203000
DTSTAMP:20260419T153812
CREATED:20200304T171409Z
LAST-MODIFIED:20210601T174359Z
UID:14385-1622660400-1622665800@ceu-hamburg.eu
SUMMARY:Virtueller Austausch mit Ingo Zamperoni\, Moderator (Fernsehmoderator Tagesthemen) und Journalist zum Thema: „Amerika nach der Wahl“
DESCRIPTION:Ingo Zamperoni\, Moderator (Fernsehmoderator Tagesthemen) und Journalist.\nDer US Präsident Joe Biden hat viel erreicht und einen Richtungswechsel eingeleitet. Was hat sich geändert\, und wie nachhaltig sind diese Änderungen? Und vor allem: wie wirken diese Änderungen sich innen- und außenpolitisch aus? Das und vieles mehr zu diesem Thema werden wir nach einem Kurzvortrag von Ingo Zamperoni mit Ihnen diskutieren. \nDer gebürtige Wiesbadener beginnt seine Karriere als Producer im ARD-Studio in Washington und volontiert danach beim NDR in Hamburg. Ab 2007 moderiert er das  „ARD-Nachtmagazin“\, ab 2012 auch bei den „ARD Tagesthemen“. 2014 geht er als ARD-Auslandskorrespondent nach Washington\, bis er 2016 neben Caren Miosga zum Hauptmoderator der „ARD Tagesthemen“ wird. Seine beiden Bücher „Fremdes Land Amerika: Warum wir unser Verhältnis zu den USA neu bewerten müssen.“ und „Anderland – Die USA unter Trump\, ein Schadensbericht“ sind beim Ullstein Verlag erschienen. \nFoto: Jennifer Fey
URL:https://ceu-hamburg.eu/event/ingo-zamperoni
LOCATION:Fairmont Hotel Vier Jahreszeiten
CATEGORIES:CeU-Event,Hamburg
ATTACH;FMTTYPE=image/png:https://ceu-hamburg.eu/wp-content/uploads/2020/03/CEU-virtuell-event-ingo-zamperoni.png
ORGANIZER;CN="CeU-Hamburg":MAILTO:events@ceu-hamburg.eu
END:VEVENT
END:VCALENDAR