BEGIN:VCALENDAR
VERSION:2.0
PRODID:-//CEU - ECPv5.16.4//NONSGML v1.0//EN
CALSCALE:GREGORIAN
METHOD:PUBLISH
X-WR-CALNAME:CEU
X-ORIGINAL-URL:https://ceu-hamburg.eu
X-WR-CALDESC:Veranstaltungen für CEU
BEGIN:VTIMEZONE
TZID:Europe/Berlin
BEGIN:DAYLIGHT
TZOFFSETFROM:+0100
TZOFFSETTO:+0200
TZNAME:CEST
DTSTART:20190331T010000
END:DAYLIGHT
BEGIN:STANDARD
TZOFFSETFROM:+0200
TZOFFSETTO:+0100
TZNAME:CET
DTSTART:20191027T010000
END:STANDARD
END:VTIMEZONE
BEGIN:VEVENT
DTSTART;TZID=Europe/Berlin:20190327T190000
DTEND;TZID=Europe/Berlin:20190327T223000
DTSTAMP:20260424T153257
CREATED:20181222T195237Z
LAST-MODIFIED:20190325T174050Z
UID:12565-1553713200-1553725800@ceu-hamburg.eu
SUMMARY:3. CeU Länder-Themenabend: Russland – „Freund\, Feind oder beides? – unsere ambivalente Beziehung“
DESCRIPTION:3. CeU-Länder-Themenabend: Russland „Freund\, Feind oder beides? – unsere ambivalente Beziehung“ Kurzvortrag und Podiumsdiskussion u. a. mit Prof. Dr. Gabriele Krone-Schmalz\, Deutsche Historikerin und Journalistin\, Publizistin und Russland-Expertin\, Katja Gloger\, Journalistin und Autorin\, Vladimir Kontenev\, Russischer Botschafter a. D. und Unternehmer Dr. Thomas Falk. \nWeitere Referenten folgen \n  \nProf. Dr. Gabriele Krone-Schmalz \nProf. Dr. Gabriele Krone-Schmalz war von 1987 bis 1991 Korrespondentin im ARD Studio Moskau. Seit 1976 beim WDR\, war sie u.a. Redakteurin bei „Monitor“ und im ARD Studio New York. Sie ist Fellow des German Marshall Fund. Seit 1992 arbeitet sie als freie Publizistin. Die Autorin mehrerer Bestseller moderierte bis 1998 den ARD-„Kulturweltspiegel“. \nSie ist Mitglied im Petersburger Dialog\, gehört dem Kuratorium des Deutsch-Russischen-Forum an und war von 2011 bis 2016 im Hochschulrat der TU Ilmenau. \nFür ihre Arbeit wurde sie mehrfach ausgezeichnet\, darunter zweimal mit dem Grimme Preis. Sie ist Trägerin des   Bundesverdienstkreuzes 1. Klasse für „die Qualität der Fernsehberichterstattung“ und hat 2008 die Puschkin-Medaille verliehen bekommen „in Anerkennung ihres Beitrages zur Festigung der Freundschaft und Zusammenarbeit zwischen Russland und Deutschland.“ \n  \n  \n  \n  \n  \n  \n  \n  \nDr. Thomas Falk \n  \n  \nDr. Thomas Falk ist Jurist. Mit der Firma Falk Beratung GmbH berät er große Industriekonzerne im internationalen Bereich sowohl wirtschaftlich als auch politisch. Er ist im Ost-Ausschuss – Osteuropaverein der Deutschen Wirtschaft e.V. engagiert und leitet den Arbeitskreis Wirtschaft im Petersburger Dialog. \n  \n  \n  \n  \n  \n  \n  \n  \n  \n  \n  \nVladimir Kotenev \nVladimir Kotenev ist einer der angesehensten Diplomaten der Russischen Föderation. Von 2004 bis 2010 war er russischer Botschafter in der Bundesrepublik Deutschland. Er ist Absolvent des Staatlichen Moskauer Instituts für Internationale Beziehungen\, das als eine der führenden russischen Universitäten Diplomaten ausbildet und beim Ministerium für Auswärtige Angelegenheiten der UdSSR angesiedelt ist. Im Jahr 1979 trat Vladimir Kotenev in den diplomatischen Dienst seines Landes ein und hatte\, neben seiner Entsendung nach Berlin\, führende Positionen im Außenministerium Russlands inne. Er war stellvertretender Büroleiter des Ministers und Leiter des Konsulardienstes mit weltweit 240 Konsulaten und 1500 Mitarbeitern. Nach seinem Ausscheiden aus dem diplomatischen Dienst führte er zunächst die Geschäfte der Gazprom Germania. Heute ist er gefragter Redner\, Publizist und selbständiger Berater für Unternehmen im Westen wie im Osten. Seit 2013 ist Vladimir Kotenev Präsidiumsmitglied des Internationalen Wirtschaftssenats. \n  \n  \n  \n  \n  \n  \nKatja Gloger \nKatja Gloger studierte als Stipendiatin der Studienstiftung des Deutschen Volkes Osteuropäische Geschichte\, Politik und Slawistik in Hamburg und Moskau. Die Absolventin der Deutschen Journalistenschule München arbeitete zunächst als TV-Reporterin beim WDR in Köln\, wechselte 1989 zum Magazin Stern nach Hamburg  Als Leiterin des Moskauer Stern-Büros erlebte sie den Zusammenbruch der Sowjetunion und den Aufstieg eines neuen Russland. Sie interviewte Michail Gorbatschow\, Boris Jelzin und Wladimir Putin\, den sie als erste westliche Korrespondentin über Monate begleiten konnte. Sie war politische Korrespondentin des Stern in Washington und arbeitet heute als Autorin und Publizistin vor allem zu Russland sowie zu Themen Internationaler und Sicherheitspolitik. \n2010 erhielt sie den Henri-Nannen-Preis in der Kategorie „Dokumentation“;  2014 wurde sie als politische “Journalistin des Jahres” ausgezeichnet. 2015 erschien ihr Buch “Putins Welt”; ihr jüngstes Buch „Fremde Freunde“ beschreibt die schicksalhafte Beziehung zwischen Deutschen und Russen. Im Deutschlandfunk hiess es dazu: „Katja Gloger erzählt die Geschichte von Deutschen und Russen lebendig und nachvollziehbar. Und sie erzählt sie mit einer Unvoreingenommenheit\, die den Leser mitreißt.“ \nKatja Gloger ist Mitglied der Atlantik-Brücke und arbeitet ehrenamtlich als Vorstandssprecherin der NGO “Reporter ohne Grenzen”. \nFoto: Hans Jürgen Burkard
URL:https://ceu-hamburg.eu/event/3-ceu-laender-themenabend-russland-freund-feind-oder-beides-unsere-ambivalente-beziehung
LOCATION:Hotel Vier Jahreszeiten\, Neuer Jungfernstieg 9 - 14\, Hamburg\, 20354
CATEGORIES:CeU Länder-Themenabend
ATTACH;FMTTYPE=image/jpeg:https://ceu-hamburg.eu/wp-content/uploads/2018/12/Krone-Schmalz-e1549921574942.jpg
ORGANIZER;CN="CeU-Hamburg":MAILTO:events@ceu-hamburg.eu
END:VEVENT
END:VCALENDAR